BEGIN:VCALENDAR
VERSION:2.0
PRODID:-//AudioTheme 2.3.0
BEGIN:VEVENT
UID:urn:uuid:cbb03e97-2d18-4da2-8425-121ed6353aa2
URL:https://charkecormierduo.com/shows/back-to-the-gardens-celso-machado-the-charke-cormier-duo/
DTSTART;TZID=GMT:20220813T194500
SUMMARY:Back to the Gardens - Celso Machado & The Charke Cormier Duo
LOCATION:KC Irving Centre Gardens\, Acadia University\, Wolfville\, NS
END:VEVENT
END:VCALENDAR
