BEGIN:VCALENDAR
VERSION:2.0
PRODID:-//AudioTheme 2.3.0
BEGIN:VEVENT
UID:urn:uuid:eef3aa1d-f7a8-4901-86c8-9f90c45df1aa
URL:https://charkecormierduo.com/shows/back-to-the-gardens-on-the-road-celso-machado-the-charke-cormier-duo-with-special-guest-tania-chan/
DTSTART;VALUE=DATE:20220811
SUMMARY:Back to the Gardens on the Road - Celso Machado & The Charke Cormier Duo, with special guest Tania Chan
LOCATION:The Carleton\, 1685 Argyle St.\, Halifax\, NS
END:VEVENT
END:VCALENDAR
