BEGIN:VCALENDAR
VERSION:2.0
PRODID:-//AudioTheme 2.3.0
BEGIN:VEVENT
UID:urn:uuid:d5d1e6a6-2838-43b8-bf22-7679853dfb74
URL:https://charkecormierduo.com/shows/bathymetric-terrains-cd-release-concert-and-reception/
DTSTART;TZID=GMT:20200215T180000
SUMMARY:Bathymetric Terrains CD Release Concert Halifax
DESCRIPTION:Join us for our CD launch event!
LOCATION:The Music Room\, 6181 Lady Hammond Rd.\, Halifax\, NS\, Canada
END:VEVENT
END:VCALENDAR
