BEGIN:VCALENDAR
VERSION:2.0
PRODID:-//AudioTheme 2.3.0
BEGIN:VEVENT
UID:urn:uuid:bb0258e0-f88c-49ec-ba81-10f82767f46c
URL:https://charkecormierduo.com/shows/dartmouth-community-concert-association/
DTSTART;TZID=GMT:20221125T230000
SUMMARY:Dartmouth Community Concert Association
LOCATION:Woodlawn United Church\, 54 Woodlawn Road\, Dartmouth\, NS
END:VEVENT
END:VCALENDAR
