BEGIN:VCALENDAR
VERSION:2.0
PRODID:-//AudioTheme 2.3.0
BEGIN:VEVENT
UID:urn:uuid:e369c1d6-b769-4851-b3bd-c45e58fb9a32
URL:https://charkecormierduo.com/shows/nova-scotia-music-week/
DTSTART;TZID=GMT:20221103T180000
SUMMARY:Nova Scotia Music Week Showcase - *** Exact time and date TBA
DESCRIPTION:Nova Scotia Music Week Showcase - *** Exact time and date TBA
END:VEVENT
END:VCALENDAR
